
BEGIN:VCALENDAR
PRODID:-//Feedo Feed//NONSGML v1.0//EN
VERSION:2.0
CALSCALE:GREGORIAN
METHOD:PUBLISH
X-WR-CALNAME:H2020 - Dybdeworkshop, Trondheim 6. januar
X-WR-CALDESC:I samarbeid med Norges forskningsråd organiserer NTNU og SINTEF Byggforsk en serie med workshops der vi presenterer og diskuterer aktuelle utlysninger i Horisont2020, med særlig vekt på utlysninger innenfor energieffektive bygninger og Smart Cities.\nTil en slik workshop ønsker vi oss rundt 20 aktive deltagere som har som mål å delta i EU-søknader og nettverk tilknyttet disse tema.\nMålet er å få mobilisert norsk næringsliv, kommuner og forskningspartnere til deltagelse i EU-søknader og  –nettverk, og vi oppsøker derfor gjerne regionale klynger.\nEn workshop varer i 4 timer, der vi får diskutert sammen med deltagerne hvordan utlysningene kan tolkes, hva slags bakgrunnsinformasjon en må sjekke, hva slags partnere som er ønskelige til ulike søknader, og hvordan man finner frem til aktuelle utenlandske partnere. Workshop’en har ikke som mål å utvikle samarbeid mellom deltagerne, men det er selvsagt ingenting imot at det skulle skje. Agenda:13:00 - 13:10: Velkommen, agenda, tour de table13:10 - 13:40: Rammer for deltagelse i H2020 (NFR)13:40 - 15:05: Utlysninger tilknyttet Energy-Efficient Buildings (EeB PPP, EE): presentasjon, diskusjon15:05 - 15:35: Pause, mingling15:35 - 17:00: Utlysninger tilknyttet Smart Cities and Communities (SCC): presentasjon, diskusjon
X-MS-OLK-FORCEINSPECTOROPEN:TRUE
BEGIN:VEVENT
DTSTAMP:20260422T170805Z
DTSTART:20140106T120000Z
DTEND:20140106T160000Z
TRANSP:TRANSPARENT
UID:472014-01-06
SUMMARY:H2020 - Dybdeworkshop, Trondheim 6. januar
DESCRIPTION:I samarbeid med Norges forskningsråd organiserer NTNU og SINTEF Byggforsk en serie med workshops der vi presenterer og diskuterer aktuelle utlysninger i Horisont2020, med særlig vekt på utlysninger innenfor energieffektive bygninger og Smart Cities.\nTil en slik workshop ønsker vi oss rundt 20 aktive deltagere som har som mål å delta i EU-søknader og nettverk tilknyttet disse tema.\nMålet er å få mobilisert norsk næringsliv, kommuner og forskningspartnere til deltagelse i EU-søknader og  –nettverk, og vi oppsøker derfor gjerne regionale klynger.\nEn workshop varer i 4 timer, der vi får diskutert sammen med deltagerne hvordan utlysningene kan tolkes, hva slags bakgrunnsinformasjon en må sjekke, hva slags partnere som er ønskelige til ulike søknader, og hvordan man finner frem til aktuelle utenlandske partnere. Workshop’en har ikke som mål å utvikle samarbeid mellom deltagerne, men det er selvsagt ingenting imot at det skulle skje. Agenda:13:00 - 13:10: Velkommen, agenda, tour de table13:10 - 13:40: Rammer for deltagelse i H2020 (NFR)13:40 - 15:05: Utlysninger tilknyttet Energy-Efficient Buildings (EeB PPP, EE): presentasjon, diskusjon15:05 - 15:35: Pause, mingling15:35 - 17:00: Utlysninger tilknyttet Smart Cities and Communities (SCC): presentasjon, diskusjon
URL:http://zeb.no/index.php/en/news-and-events/events/h2020-dybdeworkshop?format=html
CATEGORIES:Events
GEO:63.43557320000001;10.406391799999938
LOCATION:Rica Nidelven, Trondheim
END:VEVENT
END:VCALENDAR