
BEGIN:VCALENDAR
PRODID:-//Feedo Feed//NONSGML v1.0//EN
VERSION:2.0
CALSCALE:GREGORIAN
METHOD:PUBLISH
X-WR-CALNAME:Lunch Lecture
X-WR-CALDESC:Today's Lunch Lecture:\nUsman Dar: Improving interaction between Net-ZEB and the grid using advanced control of heat pumps
X-MS-OLK-FORCEINSPECTOROPEN:TRUE
BEGIN:VEVENT
DTSTAMP:20260422T164408Z
DTSTART:20131018T110000Z
DTEND:20131018T120000Z
TRANSP:TRANSPARENT
UID:322013-10-18
SUMMARY:Lunch Lecture
DESCRIPTION:Today's Lunch Lecture:\nUsman Dar: Improving interaction between Net-ZEB and the grid using advanced control of heat pumps
URL:http://zeb.no/index.php/en/news-and-events/events/lunch-lecture?format=html
CATEGORIES:Partners only
GEO:63.4171494;10.404469999999947
LOCATION:Trondheim
END:VEVENT
END:VCALENDAR