
BEGIN:VCALENDAR
PRODID:-//Feedo Feed//NONSGML v1.0//EN
VERSION:2.0
CALSCALE:GREGORIAN
METHOD:PUBLISH
X-WR-CALNAME:Partnermøte hos VELUX Danmark
X-WR-CALDESC:Partnermøte hos VELUX Danmark inkludert lab.omvisning.\nKun for spesielt inviterte.
X-MS-OLK-FORCEINSPECTOROPEN:TRUE
BEGIN:VEVENT
DTSTAMP:20260422T170600Z
DTSTART:20140115T000000Z
DTEND:20140115T000000Z
TRANSP:TRANSPARENT
UID:592014-01-15
SUMMARY:Partnermøte hos VELUX Danmark
DESCRIPTION:Partnermøte hos VELUX Danmark inkludert lab.omvisning.\nKun for spesielt inviterte.
URL:http://zeb.no/index.php/en/news-and-events/events/partnermote-hos-velux-danmark?format=html
CATEGORIES:Partners only
GEO:55.89642019999999;12.48469399999999
LOCATION:Velux, Hørsholm, Danmark
END:VEVENT
END:VCALENDAR